BEGIN:VCALENDAR
VERSION:2.0
PRODID:-//The Music Cafe - ECPv6.15.16//NONSGML v1.0//EN
CALSCALE:GREGORIAN
METHOD:PUBLISH
X-WR-CALNAME:The Music Cafe
X-ORIGINAL-URL:https://themusiccafe.com
X-WR-CALDESC:Events for The Music Cafe
REFRESH-INTERVAL;VALUE=DURATION:PT1H
X-Robots-Tag:noindex
X-PUBLISHED-TTL:PT1H
BEGIN:VTIMEZONE
TZID:America/Chicago
BEGIN:DAYLIGHT
TZOFFSETFROM:-0600
TZOFFSETTO:-0500
TZNAME:CDT
DTSTART:20180311T080000
END:DAYLIGHT
BEGIN:STANDARD
TZOFFSETFROM:-0500
TZOFFSETTO:-0600
TZNAME:CST
DTSTART:20181104T070000
END:STANDARD
BEGIN:DAYLIGHT
TZOFFSETFROM:-0600
TZOFFSETTO:-0500
TZNAME:CDT
DTSTART:20190310T080000
END:DAYLIGHT
BEGIN:STANDARD
TZOFFSETFROM:-0500
TZOFFSETTO:-0600
TZNAME:CST
DTSTART:20191103T070000
END:STANDARD
BEGIN:DAYLIGHT
TZOFFSETFROM:-0600
TZOFFSETTO:-0500
TZNAME:CDT
DTSTART:20200308T080000
END:DAYLIGHT
BEGIN:STANDARD
TZOFFSETFROM:-0500
TZOFFSETTO:-0600
TZNAME:CST
DTSTART:20201101T070000
END:STANDARD
END:VTIMEZONE
BEGIN:VEVENT
DTSTART;TZID=America/Chicago:20191207T090000
DTEND;TZID=America/Chicago:20191207T090000
DTSTAMP:20260421T114733
CREATED:20190531T160916Z
LAST-MODIFIED:20191204T210111Z
UID:720-1575709200-1575709200@themusiccafe.com
SUMMARY:Midnight Magic
DESCRIPTION:  \n  \n  \n  \n  \n  \nWe will have live music all day with refreshments. Guitars for Vets will be playing 5:30 – 6:30 and we will be donating 2 guitars to their program. Also\, we are hosting the drawing for our 4th Annual Raffle Guitar drawing that evening of Saturday\, December 7th at 8:30.   The guitar was hand-painted by 3 Carroll University art students: Jaryn Bear\, Alex Olson\, and Taylor Uselmann and built by guitar teacher\, Dave Dohearty.  All proceeds will be donated to Mukwonago Fine Arts Boosters (MFAB). \nThe Music Café Students\n9:00 – 9:10 Mackenzie Tenuta – 2 students Olyvia\n9:15 – 9:30 Kelly Kuhl – 8 students\n9:35 – 9:50 John Knurr – 5 students\n10:15 -10:30 Jade Neuburg – Ella Norling\n10:30 – 11:00 Travis Brown – 5 students\n12:00 – 2:00 Rock shop bands\n4:30 – 5:00 MHS jazz combo\n5:00 – 5:30 MHS vocal group\n5:30 – 6:30 Guitars for vets\n6:45 – 7:45 Mark & Lindsey Co. Mingle Jazz Ensemble\n8:00 – 8:30 Mac weast\n8:30 Guitar Raffle Drawing
URL:https://themusiccafe.com/event/midnight-magic/
ATTACH;FMTTYPE=image/jpeg:https://themusiccafe.com/wp-content/uploads/2019/05/christmas-3878222_1920.jpg
END:VEVENT
END:VCALENDAR