BEGIN:VCALENDAR
VERSION:2.0
PRODID:-//The Music Cafe - ECPv6.15.16//NONSGML v1.0//EN
CALSCALE:GREGORIAN
METHOD:PUBLISH
X-WR-CALNAME:The Music Cafe
X-ORIGINAL-URL:https://themusiccafe.com
X-WR-CALDESC:Events for The Music Cafe
REFRESH-INTERVAL;VALUE=DURATION:PT1H
X-Robots-Tag:noindex
X-PUBLISHED-TTL:PT1H
BEGIN:VTIMEZONE
TZID:America/Chicago
BEGIN:DAYLIGHT
TZOFFSETFROM:-0600
TZOFFSETTO:-0500
TZNAME:CDT
DTSTART:20220313T080000
END:DAYLIGHT
BEGIN:STANDARD
TZOFFSETFROM:-0500
TZOFFSETTO:-0600
TZNAME:CST
DTSTART:20221106T070000
END:STANDARD
BEGIN:DAYLIGHT
TZOFFSETFROM:-0600
TZOFFSETTO:-0500
TZNAME:CDT
DTSTART:20230312T080000
END:DAYLIGHT
BEGIN:STANDARD
TZOFFSETFROM:-0500
TZOFFSETTO:-0600
TZNAME:CST
DTSTART:20231105T070000
END:STANDARD
BEGIN:DAYLIGHT
TZOFFSETFROM:-0600
TZOFFSETTO:-0500
TZNAME:CDT
DTSTART:20240310T080000
END:DAYLIGHT
BEGIN:STANDARD
TZOFFSETFROM:-0500
TZOFFSETTO:-0600
TZNAME:CST
DTSTART:20241103T070000
END:STANDARD
BEGIN:DAYLIGHT
TZOFFSETFROM:-0600
TZOFFSETTO:-0500
TZNAME:CDT
DTSTART:20250309T080000
END:DAYLIGHT
BEGIN:STANDARD
TZOFFSETFROM:-0500
TZOFFSETTO:-0600
TZNAME:CST
DTSTART:20251102T070000
END:STANDARD
BEGIN:DAYLIGHT
TZOFFSETFROM:-0600
TZOFFSETTO:-0500
TZNAME:CDT
DTSTART:20260308T080000
END:DAYLIGHT
BEGIN:STANDARD
TZOFFSETFROM:-0500
TZOFFSETTO:-0600
TZNAME:CST
DTSTART:20261101T070000
END:STANDARD
END:VTIMEZONE
BEGIN:VEVENT
DTSTART;VALUE=DATE:20230705
DTEND;VALUE=DATE:20230706
DTSTAMP:20260421T121036
CREATED:20230705T125642Z
LAST-MODIFIED:20230705T125642Z
UID:1321-1688515200-1688601599@themusiccafe.com
SUMMARY:Wisconsin Chamber Orchestra Concert on the Square
DESCRIPTION:
URL:https://themusiccafe.com/event/wisconsin-chamber-orchestra-concert-on-the-square/
END:VEVENT
BEGIN:VEVENT
DTSTART;VALUE=DATE:20230712
DTEND;VALUE=DATE:20230713
DTSTAMP:20260421T121036
CREATED:20230705T125700Z
LAST-MODIFIED:20230705T125700Z
UID:1323-1689120000-1689206399@themusiccafe.com
SUMMARY:Wisconsin Chamber Orchestra Concert on the Square
DESCRIPTION:
URL:https://themusiccafe.com/event/wisconsin-chamber-orchestra-concert-on-the-square-2/
END:VEVENT
BEGIN:VEVENT
DTSTART;VALUE=DATE:20230719
DTEND;VALUE=DATE:20230720
DTSTAMP:20260421T121036
CREATED:20230705T125714Z
LAST-MODIFIED:20230705T125714Z
UID:1325-1689724800-1689811199@themusiccafe.com
SUMMARY:Wisconsin Chamber Orchestra Concert on the Square
DESCRIPTION:
URL:https://themusiccafe.com/event/wisconsin-chamber-orchestra-concert-on-the-square-3/
END:VEVENT
BEGIN:VEVENT
DTSTART;VALUE=DATE:20230722
DTEND;VALUE=DATE:20230723
DTSTAMP:20260421T121036
CREATED:20230705T125549Z
LAST-MODIFIED:20230705T125549Z
UID:1319-1689984000-1690070399@themusiccafe.com
SUMMARY:Opera in the Park
DESCRIPTION:Madison Symphony Orchestra
URL:https://themusiccafe.com/event/opera-in-the-park/
END:VEVENT
BEGIN:VEVENT
DTSTART;VALUE=DATE:20230802
DTEND;VALUE=DATE:20230803
DTSTAMP:20260421T121036
CREATED:20230705T125734Z
LAST-MODIFIED:20230705T125734Z
UID:1327-1690934400-1691020799@themusiccafe.com
SUMMARY:Wisconsin Chamber Orchestra Concert on the Square
DESCRIPTION:
URL:https://themusiccafe.com/event/wisconsin-chamber-orchestra-concert-on-the-square-4/
END:VEVENT
BEGIN:VEVENT
DTSTART;TZID=America/Chicago:20251206T090000
DTEND;TZID=America/Chicago:20251206T140000
DTSTAMP:20260421T121036
CREATED:20251027T155237Z
LAST-MODIFIED:20251027T161252Z
UID:1514-1765011600-1765029600@themusiccafe.com
SUMMARY:Music Cafe Students Perform
DESCRIPTION:9:00am – 2:00pm
URL:https://themusiccafe.com/event/music-cafe-students-perform/
LOCATION:Midnight Magic at The Music Cafe
END:VEVENT
BEGIN:VEVENT
DTSTART;TZID=America/Chicago:20251206T161500
DTEND;TZID=America/Chicago:20251206T170000
DTSTAMP:20260421T121036
CREATED:20251027T155623Z
LAST-MODIFIED:20251027T161022Z
UID:1517-1765037700-1765040400@themusiccafe.com
SUMMARY:Levitation
DESCRIPTION:4:15pm – 5:00pm
URL:https://themusiccafe.com/event/levitation/
LOCATION:Midnight Magic at The Music Cafe
END:VEVENT
BEGIN:VEVENT
DTSTART;TZID=America/Chicago:20251206T171500
DTEND;TZID=America/Chicago:20251206T180000
DTSTAMP:20260421T121036
CREATED:20251027T160218Z
LAST-MODIFIED:20251027T161155Z
UID:1524-1765041300-1765044000@themusiccafe.com
SUMMARY:MHS Choir - PJ Uhazie
DESCRIPTION:5:15pm – 6:00pm
URL:https://themusiccafe.com/event/mhs-choir-pj-uhazie/
LOCATION:Midnight Magic at The Music Cafe
END:VEVENT
BEGIN:VEVENT
DTSTART;TZID=America/Chicago:20251206T180000
DTEND;TZID=America/Chicago:20251206T190000
DTSTAMP:20260421T121036
CREATED:20251027T155924Z
LAST-MODIFIED:20251027T160835Z
UID:1522-1765044000-1765047600@themusiccafe.com
SUMMARY:Ladyslipper
DESCRIPTION:6:00pm – 7:00pm
URL:https://themusiccafe.com/event/ladyslipper/
LOCATION:Midnight Magic at The Music Cafe
ATTACH;FMTTYPE=image/webp:https://themusiccafe.com/wp-content/uploads/2025/10/Ladyslipper.webp
END:VEVENT
BEGIN:VEVENT
DTSTART;TZID=America/Chicago:20251206T190000
DTEND;TZID=America/Chicago:20251206T203000
DTSTAMP:20260421T121036
CREATED:20251027T160429Z
LAST-MODIFIED:20251027T160749Z
UID:1527-1765047600-1765053000@themusiccafe.com
SUMMARY:Novel Folly
DESCRIPTION:7:00pm – 8:30pm
URL:https://themusiccafe.com/event/novel-folly/
LOCATION:Midnight Magic at The Music Cafe
ATTACH;FMTTYPE=image/webp:https://themusiccafe.com/wp-content/uploads/2025/10/Novel-Folly-10-25-II.webp
END:VEVENT
END:VCALENDAR